BEGIN:VCALENDAR
VERSION:2.0
PRODID:-//Insa-buzz - ECPv6.15.14//NONSGML v1.0//EN
CALSCALE:GREGORIAN
METHOD:PUBLISH
X-WR-CALNAME:Insa-buzz
X-ORIGINAL-URL:https://insabuzz.in
X-WR-CALDESC:Events for Insa-buzz
REFRESH-INTERVAL;VALUE=DURATION:PT1H
X-Robots-Tag:noindex
X-PUBLISHED-TTL:PT1H
BEGIN:VTIMEZONE
TZID:Asia/Riyadh
BEGIN:STANDARD
TZOFFSETFROM:+0300
TZOFFSETTO:+0300
TZNAME:+03
DTSTART:20240101T000000
END:STANDARD
END:VTIMEZONE
BEGIN:VEVENT
DTSTART;TZID=Asia/Riyadh:20251010T080000
DTEND;TZID=Asia/Riyadh:20251010T170000
DTSTAMP:20260419T173935
CREATED:20250929T071445Z
LAST-MODIFIED:20250929T071445Z
UID:548-1760083200-1760115600@insabuzz.in
SUMMARY:Leadership Training
DESCRIPTION:This event is unique.
URL:https://insabuzz.in/event/leadership-training/
ORGANIZER;CN="Nasir":MAILTO:nasirazam.kh@gmail.com
END:VEVENT
BEGIN:VEVENT
DTSTART;TZID=Asia/Riyadh:20250913T080000
DTEND;TZID=Asia/Riyadh:20250913T170000
DTSTAMP:20260419T173935
CREATED:20250908T083004Z
LAST-MODIFIED:20250908T083004Z
UID:499-1757750400-1757782800@insabuzz.in
SUMMARY:Club Meeting – September
DESCRIPTION:test
URL:https://insabuzz.in/event/club-meeting-september/
LOCATION:Meeting Hall\, Al Manar\,\, Riyadh\, 12271\, Saudi Arabia
ATTACH;FMTTYPE=image/png:https://insabuzz.in/wp-content/uploads/2025/08/small-business-website.png
ORGANIZER;CN="Nasir":MAILTO:nasirazam.kh@gmail.com
END:VEVENT
END:VCALENDAR